BEGIN:VCALENDAR
VERSION:2.0
PRODID:-//Merri Community Child Care Centre - ECPv4.9.6//NONSGML v1.0//EN
CALSCALE:GREGORIAN
METHOD:PUBLISH
X-WR-CALNAME:Merri Community Child Care Centre
X-ORIGINAL-URL:https://merriccc.com.au
X-WR-CALDESC:Events for Merri Community Child Care Centre
BEGIN:VTIMEZONE
TZID:"Europe/Paris"
BEGIN:DAYLIGHT
TZOFFSETFROM:+0100
TZOFFSETTO:+0200
TZNAME:CEST
DTSTART:20250330T010000
END:DAYLIGHT
BEGIN:STANDARD
TZOFFSETFROM:+0200
TZOFFSETTO:+0100
TZNAME:CET
DTSTART:20251026T010000
END:STANDARD
END:VTIMEZONE
BEGIN:VEVENT
DTSTART;VALUE=DATE:20250701
DTEND;VALUE=DATE:20250702
DTSTAMP:20260426T001540
CREATED:20250311T052027Z
LAST-MODIFIED:20250311T052027Z
UID:1882-1751328000-1751414399@merriccc.com.au
SUMMARY:Coming of the Light
DESCRIPTION:The Coming of the Light is a holiday celebrated by Torres Strait Islanders on 1 July each year. It recognises the adoption of Christianity through island communities during the late nineteenth century. Origins The London Missionary Society set out to convert people of the Southwest Pacific to Christianity from the 1840s. \n
URL:https://merriccc.com.au/event/coming-of-the-light/
END:VEVENT
END:VCALENDAR