BEGIN:VCALENDAR
VERSION:2.0
PRODID:-//Merri Community Child Care Centre - ECPv4.9.6//NONSGML v1.0//EN
CALSCALE:GREGORIAN
METHOD:PUBLISH
X-WR-CALNAME:Merri Community Child Care Centre
X-ORIGINAL-URL:https://merriccc.com.au
X-WR-CALDESC:Events for Merri Community Child Care Centre
BEGIN:VTIMEZONE
TZID:"Europe/Paris"
BEGIN:DAYLIGHT
TZOFFSETFROM:+0100
TZOFFSETTO:+0200
TZNAME:CEST
DTSTART:20250330T010000
END:DAYLIGHT
BEGIN:STANDARD
TZOFFSETFROM:+0200
TZOFFSETTO:+0100
TZNAME:CET
DTSTART:20251026T010000
END:STANDARD
END:VTIMEZONE
BEGIN:VEVENT
DTSTART;VALUE=DATE:20251104
DTEND;VALUE=DATE:20251105
DTSTAMP:20260425T134024
CREATED:20250311T060028Z
LAST-MODIFIED:20250311T060028Z
UID:1910-1762214400-1762300799@merriccc.com.au
SUMMARY:Melbourne Cup Public Holiday
DESCRIPTION:Merri will be closed. No fees charged. \n
URL:https://merriccc.com.au/event/melbourne-cup-public-holiday-2/
END:VEVENT
END:VCALENDAR