BEGIN:VCALENDAR
VERSION:2.0
PRODID:-//Merri Community Child Care Centre - ECPv4.9.6//NONSGML v1.0//EN
CALSCALE:GREGORIAN
METHOD:PUBLISH
X-WR-CALNAME:Merri Community Child Care Centre
X-ORIGINAL-URL:https://merriccc.com.au
X-WR-CALDESC:Events for Merri Community Child Care Centre
BEGIN:VTIMEZONE
TZID:"Europe/Paris"
BEGIN:DAYLIGHT
TZOFFSETFROM:+0100
TZOFFSETTO:+0200
TZNAME:CEST
DTSTART:20250330T010000
END:DAYLIGHT
BEGIN:STANDARD
TZOFFSETFROM:+0200
TZOFFSETTO:+0100
TZNAME:CET
DTSTART:20251026T010000
END:STANDARD
END:VTIMEZONE
BEGIN:VEVENT
DTSTART;VALUE=DATE:20250706
DTEND;VALUE=DATE:20250714
DTSTAMP:20260426T023855
CREATED:20250311T053227Z
LAST-MODIFIED:20250311T053227Z
UID:1884-1751760000-1752451199@merriccc.com.au
SUMMARY:NAIDOC Week
DESCRIPTION:National NAIDOC Week celebrations are held across Australia in the first week of July each year (Sunday to Sunday)\, to celebrate and recognise the history\, culture and achievements of Aboriginal and Torres Strait Islander peoples. NAIDOC Week is an opportunity for all Australians to learn about First Nations cultures and histories and participate in celebrations of the oldest\, continuous living cultures on earth. You can support and get to know your local Aboriginal and/or Torres Strait Islander communities through activities and events held across the country. \nNational NAIDOC Week | NAIDOC \n
URL:https://merriccc.com.au/event/naidoc-week-4/
END:VEVENT
END:VCALENDAR